BEGIN:VCALENDAR
PRODID:-//github.com/ical-org/ical.net//NONSGML ical.net 5.2.1//EN
VERSION:2.0
BEGIN:VTIMEZONE
TZID:Europe/Amsterdam
X-LIC-LOCATION:Europe/Amsterdam
END:VTIMEZONE
BEGIN:VEVENT
DESCRIPTION:Ervaar een avond vol emotie en dansbare beats met popartiest No
 bu in Rotown. Ken je hem van Kraantje Pappie\, of festivals zoals Zwarte C
 ross?
DTEND;TZID=Local:20261010T230000
DTSTAMP:20260422T172138Z
DTSTART;TZID=Local:20261010T213000
LOCATION:Rotown
SEQUENCE:0
SUMMARY:Nobu
UID:edf5e8ce-2823-4bfe-b491-4d0628afdddc
URL:https://www.uitagendarotterdam.nl/agenda/nobu/
END:VEVENT
END:VCALENDAR
