BEGIN:VCALENDAR
PRODID:-//github.com/ical-org/ical.net//NONSGML ical.net 5.2.1//EN
VERSION:2.0
BEGIN:VTIMEZONE
TZID:Europe/Amsterdam
X-LIC-LOCATION:Europe/Amsterdam
END:VTIMEZONE
BEGIN:VEVENT
DESCRIPTION:Vincent Geers is afgestudeerd theaterdocent en winnaar van zowe
 l de jury- als publieksprijs van het Camerettenfestival in Rotterdam.
DTEND;TZID=Local:20261202T214500
DTSTAMP:20260422T172137Z
DTSTART;TZID=Local:20261202T200000
LOCATION:Comedy Club Haug
SEQUENCE:0
SUMMARY:Tim Hartog & Vincent Geers
UID:76121a92-c99b-4666-bdd3-401b9cd2f65a
URL:https://www.uitagendarotterdam.nl/agenda/tim-hartog-vincent-geers/
END:VEVENT
END:VCALENDAR
