BEGIN:VCALENDAR
PRODID:-//github.com/ical-org/ical.net//NONSGML ical.net 5.2.1//EN
VERSION:2.0
BEGIN:VTIMEZONE
TZID:Europe/Amsterdam
X-LIC-LOCATION:Europe/Amsterdam
END:VTIMEZONE
BEGIN:VEVENT
DESCRIPTION:Toeter mee in het wildste orkest van de savanne!Stap in de were
 ld van olifanten en transformeer jezelf tot een echte muzikale reus!
DTEND;TZID=Local:20260720T123000
DTSTAMP:20260422T173655Z
DTSTART;TZID=Local:20260720T113000
LOCATION:Studio de Bakkerij
SEQUENCE:0
SUMMARY:Workshop Olifantenkoor | VOX Muziektheater
UID:b243bb05-4a1c-420f-bb99-cafe90a5c5bb
URL:https://www.uitagendarotterdam.nl/agenda/workshop-olifantenkoor-vox-muz
 iektheater-4plus/
END:VEVENT
END:VCALENDAR
