BEGIN:VCALENDAR
PRODID:-//github.com/ical-org/ical.net//NONSGML ical.net 5.2.1//EN
VERSION:2.0
BEGIN:VTIMEZONE
TZID:Europe/Amsterdam
X-LIC-LOCATION:Europe/Amsterdam
END:VTIMEZONE
BEGIN:VEVENT
DESCRIPTION:Geloof je wat anderen zeggen of geloof je je eigen ervaring?In 
 deze nieuwe versie woont Peter in een grijze flat met zijn eend Habib.
DTEND;TZID=Local:20260731T152500
DTSTAMP:20260422T172137Z
DTSTART;TZID=Local:20260731T143000
LOCATION:Studio de Bakkerij
SEQUENCE:0
SUMMARY:Peter Zonder Wolf l Mark van Vliet
UID:f36664f3-4acd-4a7e-8b9b-fc0ce7fd4665
URL:https://www.uitagendarotterdam.nl/agenda/peter-zonder-wolf-l-mark-van-v
 liet-5plus/
END:VEVENT
END:VCALENDAR
