BEGIN:VCALENDAR
PRODID:-//github.com/ical-org/ical.net//NONSGML ical.net 5.2.1//EN
VERSION:2.0
BEGIN:VTIMEZONE
TZID:Europe/Amsterdam
X-LIC-LOCATION:Europe/Amsterdam
END:VTIMEZONE
BEGIN:VEVENT
DESCRIPTION:Ro(c)k is een muzikale en theatrale act ontwikkeld door Mariska
  Simon.
DTEND;TZID=Local:20260724T150500
DTSTAMP:20260422T172351Z
DTSTART;TZID=Local:20260724T143000
LOCATION:Studio de Bakkerij
SEQUENCE:0
SUMMARY:Ro
UID:d0724fd6-11b0-4adb-95d9-3d2467f9c0e4
URL:https://www.uitagendarotterdam.nl/agenda/ro-c-k-l-simon-speelt-producti
 es-3plus/
END:VEVENT
END:VCALENDAR
