BEGIN:VCALENDAR
PRODID:-//github.com/ical-org/ical.net//NONSGML ical.net 5.2.1//EN
VERSION:2.0
BEGIN:VTIMEZONE
TZID:Europe/Amsterdam
X-LIC-LOCATION:Europe/Amsterdam
END:VTIMEZONE
BEGIN:VEVENT
DESCRIPTION:Timo woont op de derde verdieping van een flat. Naast hem woont
  zijn beste vriend Monnamoer\, de kat van de buren.
DTEND;TZID=Local:20260727T152500
DTSTAMP:20260422T172603Z
DTSTART;TZID=Local:20260727T143000
LOCATION:Studio de Bakkerij
SEQUENCE:0
SUMMARY:Flatkat l Harro van Lien
UID:9c392c08-6bb9-4737-beac-d69973ca4bda
URL:https://www.uitagendarotterdam.nl/agenda/flatkat-l-harro-van-lien-6plus
 /
END:VEVENT
END:VCALENDAR
