BEGIN:VCALENDAR
PRODID:-//github.com/ical-org/ical.net//NONSGML ical.net 5.2.1//EN
VERSION:2.0
BEGIN:VTIMEZONE
TZID:Europe/Amsterdam
X-LIC-LOCATION:Europe/Amsterdam
END:VTIMEZONE
BEGIN:VEVENT
DESCRIPTION:De twee onderzoekers Dina en Dano zijn op zoek naar de ontbreke
 nde delen van een baby triceratops en dromen over de titel: ?Zoeker van 
 het jaar?!
DTEND;TZID=Local:20260720T151000
DTSTAMP:20260422T172618Z
DTSTART;TZID=Local:20260720T143000
LOCATION:Studio de Bakkerij
SEQUENCE:0
SUMMARY:De Dinozoekers l Triceratops
UID:84c4c84b-a8d6-4acc-8aa7-7b4a532af2f8
URL:https://www.uitagendarotterdam.nl/agenda/de-dinozoekers-l-triceratops-5
 plus/
END:VEVENT
END:VCALENDAR
