BEGIN:VCALENDAR
PRODID:-//github.com/ical-org/ical.net//NONSGML ical.net 5.2.1//EN
VERSION:2.0
BEGIN:VTIMEZONE
TZID:Europe/Amsterdam
X-LIC-LOCATION:Europe/Amsterdam
END:VTIMEZONE
BEGIN:VEVENT
DESCRIPTION:De mooiste verhalen komen toch wel van mijn Oma Isolde. Ken je 
 die al? Die verhalen komen uit Indonesi?.
DTEND;TZID=Local:20260726T153000
DTSTAMP:20260422T172604Z
DTSTART;TZID=Local:20260726T143000
LOCATION:Studio de Bakkerij
SEQUENCE:0
SUMMARY:Harimau l TG Sol Anak
UID:c9ecc908-a6df-43d5-862d-926b12a54b13
URL:https://www.uitagendarotterdam.nl/agenda/harimau-l-tg-sol-anak-3plus/
END:VEVENT
END:VCALENDAR
