BEGIN:VCALENDAR
PRODID:-//github.com/ical-org/ical.net//NONSGML ical.net 5.2.1//EN
VERSION:2.0
BEGIN:VTIMEZONE
TZID:Europe/Amsterdam
X-LIC-LOCATION:Europe/Amsterdam
END:VTIMEZONE
BEGIN:VEVENT
DESCRIPTION:Samen met Kinderparadijs gaan kinderen aan de slag met het make
 n van een bijzonder schilderij.
DTEND;TZID=Local:20260722T123000
DTSTAMP:20260422T155540Z
DTSTART;TZID=Local:20260722T113000
LOCATION:Studio de Bakkerij
SEQUENCE:0
SUMMARY:Schilderworkshop | Kinderparadijs Meidoorn
UID:e54bb317-dd05-4403-a8bb-7f213b17433b
URL:https://www.uitagendarotterdam.nl/agenda/schilderworkshop-kinderparadij
 s-meidoorn-4plus/
END:VEVENT
END:VCALENDAR
