BEGIN:VCALENDAR
PRODID:-//github.com/ical-org/ical.net//NONSGML ical.net 5.2.1//EN
VERSION:2.0
BEGIN:VTIMEZONE
TZID:Europe/Amsterdam
X-LIC-LOCATION:Europe/Amsterdam
END:VTIMEZONE
BEGIN:VEVENT
DESCRIPTION:Aan de hand van verschillende kinderliedjes duiken we samen met
  kinderen in taal\, betekenis en verbeelding.
DTEND;TZID=Local:20260724T123000
DTSTAMP:20260422T154424Z
DTSTART;TZID=Local:20260724T113000
LOCATION:Studio de Bakkerij
SEQUENCE:0
SUMMARY:Workshop van klank naar verhaal | Warm Welcome
UID:2fe205a9-1290-450b-9e2a-eab3f758c59f
URL:https://www.uitagendarotterdam.nl/agenda/workshop-van-klank-naar-verhaa
 l-warm-welcome-4plus/
END:VEVENT
END:VCALENDAR
