BEGIN:VCALENDAR
PRODID:-//github.com/ical-org/ical.net//NONSGML ical.net 5.2.1//EN
VERSION:2.0
BEGIN:VTIMEZONE
TZID:Europe/Amsterdam
X-LIC-LOCATION:Europe/Amsterdam
END:VTIMEZONE
BEGIN:VEVENT
DESCRIPTION:Duik in de betoverende wereld van schaduwpoppen. In deze worksh
 op maken we kennis met de Indonesische wayangpoppen. ?Wayang? betekent
  schaduw.
DTEND;TZID=Local:20260726T123000
DTSTAMP:20260422T160529Z
DTSTART;TZID=Local:20260726T113000
LOCATION:Studio de Bakkerij
SEQUENCE:0
SUMMARY:Workshop Wayangpoppen maken | Wereldmuseum
UID:170acbb4-1271-464a-acd3-44028bee8906
URL:https://www.uitagendarotterdam.nl/agenda/workshop-wayangpoppen-maken-we
 reldmuseum-4plus/
END:VEVENT
END:VCALENDAR
