BEGIN:VCALENDAR
PRODID:-//github.com/ical-org/ical.net//NONSGML ical.net 5.2.1//EN
VERSION:2.0
BEGIN:VTIMEZONE
TZID:Europe/Amsterdam
X-LIC-LOCATION:Europe/Amsterdam
END:VTIMEZONE
BEGIN:VEVENT
DESCRIPTION:LET OP Deze voorstelling vindt plaats bij Speeltuin de Riffijn.
DTEND;TZID=Local:20260718T153000
DTSTAMP:20260422T155655Z
DTSTART;TZID=Local:20260718T143000
LOCATION:Studio de Bakkerij
SEQUENCE:0
SUMMARY:Tot op de bodem l Garage TDI @ Speeltuin de Riffijn
UID:b12a531e-284f-4acc-a0ef-ac99cd8e45dc
URL:https://www.uitagendarotterdam.nl/agenda/tot-op-de-bodem-l-garage-tdi-s
 peeltuin-de-riffijn-6plus/
END:VEVENT
END:VCALENDAR
