BEGIN:VCALENDAR
PRODID:-//github.com/ical-org/ical.net//NONSGML ical.net 5.2.1//EN
VERSION:2.0
BEGIN:VTIMEZONE
TZID:Europe/Amsterdam
X-LIC-LOCATION:Europe/Amsterdam
END:VTIMEZONE
BEGIN:VEVENT
DESCRIPTION:Tijdens deze energieke workshop maak je kennis met breakdance.
DTEND;TZID=Local:20260731T123000
DTSTAMP:20260422T154925Z
DTSTART;TZID=Local:20260731T113000
LOCATION:Studio de Bakkerij
SEQUENCE:0
SUMMARY:Workshop Breakdance | Rabbani
UID:46356611-25d1-4b83-9e60-e37a9ec04242
URL:https://www.uitagendarotterdam.nl/agenda/workshop-breakdance-rabbani-6p
 lus/
END:VEVENT
END:VCALENDAR
