BEGIN:VCALENDAR
PRODID:-//github.com/ical-org/ical.net//NONSGML ical.net 5.2.1//EN
VERSION:2.0
BEGIN:VTIMEZONE
TZID:Europe/Amsterdam
X-LIC-LOCATION:Europe/Amsterdam
END:VTIMEZONE
BEGIN:VEVENT
DESCRIPTION:Jullie zijn te laat voor de musicalvoorstelling! Tidy Tom is de
  planken al aan het dweilen. Wat nu?!
DTEND;TZID=Local:20261020T151000
DTSTAMP:20260422T160529Z
DTSTART;TZID=Local:20261020T143000
LOCATION:Studio de Bakkerij
SEQUENCE:0
SUMMARY:Donnie wil de hoofdrol l Donnie Stories
UID:52d7112d-f2f6-4936-ab7a-5a4edd8dbc51
URL:https://www.uitagendarotterdam.nl/agenda/donnie-wil-de-hoofdrol-l-donni
 e-stories-4plus/
END:VEVENT
END:VCALENDAR
