BEGIN:VCALENDAR
PRODID:-//github.com/ical-org/ical.net//NONSGML ical.net 5.2.1//EN
VERSION:2.0
BEGIN:VTIMEZONE
TZID:Europe/Amsterdam
X-LIC-LOCATION:Europe/Amsterdam
END:VTIMEZONE
BEGIN:VEVENT
DESCRIPTION:Ga mee op avontuur met Vleertje Muis en zijn vrienden Uil\, Ege
 l\, Pad en Vos. Een interactieve voorleesvoorstelling vol plezier\, muziek
  en ontdekkingen in Studio de Bakkerij.
DTEND;TZID=Local:20261018T120000
DTSTAMP:20260422T200030Z
DTSTART;TZID=Local:20261018T110000
LOCATION:Studio de Bakkerij
SEQUENCE:0
SUMMARY:Vleertje Muis | Susanne Roos
UID:b68870cb-7b2e-41e0-94eb-1d66ab75d3a9
URL:https://www.uitagendarotterdam.nl/agenda/vleertje-muis-susanne-roos-3pl
 us/
END:VEVENT
END:VCALENDAR
