BEGIN:VCALENDAR
PRODID:-//github.com/ical-org/ical.net//NONSGML ical.net 5.2.1//EN
VERSION:2.0
BEGIN:VTIMEZONE
TZID:Europe/Amsterdam
X-LIC-LOCATION:Europe/Amsterdam
END:VTIMEZONE
BEGIN:VEVENT
DESCRIPTION:Ga mee op avontuurlijke speurtocht rond Studio de Bakkerij en o
 ntdek de natuur van dichtbij!
DTEND;TZID=Local:20260802T133000
DTSTAMP:20260422T154721Z
DTSTART;TZID=Local:20260802T123000
LOCATION:Studio de Bakkerij
SEQUENCE:0
SUMMARY:Speurtocht | GroenGoed
UID:03d859a0-9d31-4782-9e74-b840146fdb92
URL:https://www.uitagendarotterdam.nl/agenda/speurtocht-groengoed-6plus/
END:VEVENT
END:VCALENDAR
