BEGIN:VCALENDAR
PRODID:-//github.com/ical-org/ical.net//NONSGML ical.net 5.2.1//EN
VERSION:2.0
BEGIN:VTIMEZONE
TZID:Europe/Amsterdam
X-LIC-LOCATION:Europe/Amsterdam
END:VTIMEZONE
BEGIN:VEVENT
DESCRIPTION:Een groot verhaal\, in een kleine verpakking Er reist een lege 
 koffer door Nederland. Helemaal leeg?
DTEND;TZID=Local:20260802T160000
DTSTAMP:20260422T154747Z
DTSTART;TZID=Local:20260802T152500
LOCATION:Studio de Bakkerij
SEQUENCE:0
SUMMARY:Het Koffertje | De Horde
UID:e3b3bec8-550b-4535-9169-0f440ecb8d68
URL:https://www.uitagendarotterdam.nl/agenda/het-koffertje-de-horde-4plus/
END:VEVENT
END:VCALENDAR
