BEGIN:VCALENDAR
PRODID:-//github.com/ical-org/ical.net//NONSGML ical.net 5.2.1//EN
VERSION:2.0
BEGIN:VTIMEZONE
TZID:Europe/Amsterdam
X-LIC-LOCATION:Europe/Amsterdam
END:VTIMEZONE
BEGIN:VEVENT
DESCRIPTION:Grote Geelstaart brengt eigenzinnige noirerock met kronkelende 
 discobeats. Ervaar een unieke show door deze Zeeuwse band in V11!
DTEND;TZID=Local:20261112T230000
DTSTAMP:20260422T154730Z
DTSTART;TZID=Local:20261112T210000
LOCATION:Vessel 11
SEQUENCE:0
SUMMARY:Grote Geelstaart
UID:a6d88c4f-c7ef-4387-aff9-3d0f56d03fdf
URL:https://www.uitagendarotterdam.nl/agenda/grote-geelstaart/
END:VEVENT
END:VCALENDAR
