BEGIN:VCALENDAR
PRODID:-//github.com/ical-org/ical.net//NONSGML ical.net 5.2.1//EN
VERSION:2.0
BEGIN:VTIMEZONE
TZID:Europe/Amsterdam
X-LIC-LOCATION:Europe/Amsterdam
END:VTIMEZONE
BEGIN:VEVENT
DESCRIPTION:Schoon zal het worden. Dat is haar taak. Alles schoon en netjes
 . Alleen dat laatste vlekje wegboenen en dan is ze klaar.
DTEND;TZID=Local:20261022T153000
DTSTAMP:20260422T154424Z
DTSTART;TZID=Local:20261022T143000
LOCATION:Studio de Bakkerij
SEQUENCE:0
SUMMARY:Knoei | THEATRA
UID:b83caa26-1759-4a5a-95d5-6b4b25b3b71b
URL:https://www.uitagendarotterdam.nl/agenda/knoei-theatra-3plus/
END:VEVENT
END:VCALENDAR
