BEGIN:VCALENDAR
PRODID:-//github.com/ical-org/ical.net//NONSGML ical.net 5.2.1//EN
VERSION:2.0
BEGIN:VTIMEZONE
TZID:Europe/Amsterdam
X-LIC-LOCATION:Europe/Amsterdam
END:VTIMEZONE
BEGIN:VEVENT
DESCRIPTION:Ervaar een unieke avond met film en livemuziek. Cellist en regi
 sseur An?l Eraslan presenteert zijn documentaire over de improvisatiescen
 e van Istanbul\, gevolgd door optredens van muzikanten uit de film.
DTEND;TZID=Local:20260701T223000
DTSTAMP:20260422T160959Z
DTSTART;TZID=Local:20260701T203000
LOCATION:Worm
SEQUENCE:0
SUMMARY:Sound Dreams of Istanbul\; film & concert
UID:5938394d-0cf1-479c-b725-2d2f677fd124
URL:https://www.uitagendarotterdam.nl/agenda/sound-dreams-of-istanbul-film-
 concert/
END:VEVENT
END:VCALENDAR
