BEGIN:VCALENDAR
PRODID:-//github.com/ical-org/ical.net//NONSGML ical.net 5.2.1//EN
VERSION:2.0
BEGIN:VTIMEZONE
TZID:Europe/Amsterdam
X-LIC-LOCATION:Europe/Amsterdam
END:VTIMEZONE
BEGIN:VEVENT
DESCRIPTION:Queer Oriental Rotterdam is a cultural queer gathering and ente
 rtainment event organized by Stichting Sirkaf.
DTEND;TZID=Local:20260523T040000
DTSTAMP:20260422T154721Z
DTSTART;TZID=Local:20260523T220000
LOCATION:Worm
SEQUENCE:0
SUMMARY:Queer Oriental Vol.5
UID:08302137-bab9-4ca5-a281-b3cb67d07f9b
URL:https://www.uitagendarotterdam.nl/agenda/queer-oriental-vol5/
END:VEVENT
END:VCALENDAR
