BEGIN:VCALENDAR
PRODID:-//github.com/ical-org/ical.net//NONSGML ical.net 5.2.1//EN
VERSION:2.0
BEGIN:VTIMEZONE
TZID:Europe/Amsterdam
X-LIC-LOCATION:Europe/Amsterdam
END:VTIMEZONE
BEGIN:VEVENT
DESCRIPTION:As students at the United States Navy's elite fighter weapons s
 chool compete to be best in the class\, one daring young pilot learns a fe
 w things from a civilian instructor that are not taught in the classroom.
DTEND;TZID=Local:20260514T210900
DTSTAMP:20260422T160204Z
DTSTART;TZID=Local:20260514T190000
LOCATION:Path? De Kuip
SEQUENCE:0
SUMMARY:Top Gun
UID:b061b0aa-299b-48f2-93ea-1aff71edd400
URL:https://www.uitagendarotterdam.nl/agenda/top-gun-40th-anniversary-1/
END:VEVENT
END:VCALENDAR
