BEGIN:VCALENDAR
PRODID:-//github.com/ical-org/ical.net//NONSGML ical.net 5.2.1//EN
VERSION:2.0
BEGIN:VTIMEZONE
TZID:Europe/Amsterdam
X-LIC-LOCATION:Europe/Amsterdam
END:VTIMEZONE
BEGIN:VEVENT
DESCRIPTION:As students at the United States Navy's elite fighter weapons s
 chool compete to be best in the class\, one daring young pilot learns a fe
 w things from a civilian instructor that are not taught in the classroom.
DTEND;TZID=Local:20260513T183900
DTSTAMP:20260422T155538Z
DTSTART;TZID=Local:20260513T163000
LOCATION:Path? De Kuip
SEQUENCE:0
SUMMARY:Top Gun
UID:d27d10a1-9669-4805-afb4-4224cd53132e
URL:https://www.uitagendarotterdam.nl/agenda/top-gun-40th-anniversary-1/
END:VEVENT
END:VCALENDAR
