BEGIN:VCALENDAR
PRODID:-//github.com/ical-org/ical.net//NONSGML ical.net 5.2.1//EN
VERSION:2.0
BEGIN:VTIMEZONE
TZID:Europe/Amsterdam
X-LIC-LOCATION:Europe/Amsterdam
END:VTIMEZONE
BEGIN:VEVENT
DESCRIPTION:As students at the United States Navy's elite fighter weapons s
 chool compete to be best in the class\, one daring young pilot learns a fe
 w things from a civilian instructor that are not taught in the classroom.
DTEND;TZID=Local:20260514T203900
DTSTAMP:20260422T154835Z
DTSTART;TZID=Local:20260514T183000
LOCATION:Path? Schouwburgplein
SEQUENCE:0
SUMMARY:Top Gun
UID:a16e3911-e1c8-4c05-86de-c2f2030a8d83
URL:https://www.uitagendarotterdam.nl/agenda/top-gun-40th-anniversary/
END:VEVENT
END:VCALENDAR
