BEGIN:VCALENDAR
PRODID:-//github.com/ical-org/ical.net//NONSGML ical.net 5.2.1//EN
VERSION:2.0
BEGIN:VTIMEZONE
TZID:Europe/Amsterdam
X-LIC-LOCATION:Europe/Amsterdam
END:VTIMEZONE
BEGIN:VEVENT
DESCRIPTION:Kom naar TOFFLER in Rotterdam voor een nacht vol muziek en de b
 este DJ's. Beleef een onvergetelijke ervaring.
DTEND;TZID=Local:20260626T050000
DTSTAMP:20260422T154533Z
DTSTART;TZID=Local:20260626T230000
LOCATION:Toffler
SEQUENCE:0
SUMMARY:TOFFLER Presents Karim and friends
UID:f267095b-cda4-477b-9ba4-11f5768b2568
URL:https://www.uitagendarotterdam.nl/agenda/toffler-presents-karim-and-fri
 ends/
END:VEVENT
END:VCALENDAR
