BEGIN:VCALENDAR
PRODID:-//github.com/ical-org/ical.net//NONSGML ical.net 5.2.1//EN
VERSION:2.0
BEGIN:VTIMEZONE
TZID:Europe/Amsterdam
X-LIC-LOCATION:Europe/Amsterdam
END:VTIMEZONE
BEGIN:VEVENT
DESCRIPTION:Post-apocalyptisch drama van Michael Haneke: Anna (Isabelle Hup
 pert)\, haar man en kinderen arriveren bij een vakantiehuisje. Maar het bl
 ijkt al bezet door een ander gezin\, dat niet van plan is te vertrekken.
DTSTAMP:20260422T154835Z
DTSTART;TZID=Local:20260509T210000
LOCATION:KINO
SEQUENCE:0
SUMMARY:Le temps du loup
UID:03fb52c6-7e43-4f25-adf7-85db75763aec
URL:https://www.uitagendarotterdam.nl/agenda/le-temps-du-loup/
END:VEVENT
END:VCALENDAR
