BEGIN:VCALENDAR
PRODID:-//github.com/ical-org/ical.net//NONSGML ical.net 5.2.1//EN
VERSION:2.0
BEGIN:VTIMEZONE
TZID:Europe/Amsterdam
X-LIC-LOCATION:Europe/Amsterdam
END:VTIMEZONE
BEGIN:VEVENT
DESCRIPTION:In Bagasi ? Wat We Meedragen open je samen met filmmaker Emma
  Maria Lesuis een koffer vol familiegeschiedenis. Duik in het koloniale ve
 rleden van Suriname en ontdek de impact op persoonlijke levens. Dit is een
  confronterende reis door de tijd.
DTEND;TZID=Local:20260527T223000
DTSTAMP:20260422T160325Z
DTSTART;TZID=Local:20260527T203000
LOCATION:Worm
SEQUENCE:0
SUMMARY:BAGASI - WHAT WE CARRY
UID:fe938fc3-863f-47bf-b504-8a5ecaa5858c
URL:https://www.uitagendarotterdam.nl/agenda/bagasi-what-we-carry/
END:VEVENT
END:VCALENDAR
