BEGIN:VCALENDAR
PRODID:-//github.com/ical-org/ical.net//NONSGML ical.net 5.2.1//EN
VERSION:2.0
BEGIN:VTIMEZONE
TZID:Europe/Amsterdam
X-LIC-LOCATION:Europe/Amsterdam
END:VTIMEZONE
BEGIN:VEVENT
DESCRIPTION:Samen buiten lezen:  is er een beter begin van je zomer zondag?
DTEND;TZID=Local:20260628T120000
DTSTAMP:20260422T160852Z
DTSTART;TZID=Local:20260628T100000
LOCATION:Keilecaf?
SEQUENCE:0
SUMMARY:Silent Book Club Summer Morning Special
UID:5d29879f-f01f-4986-9192-61e500590679
URL:https://www.uitagendarotterdam.nl/agenda/silent-book-club-summer-mornin
 g-special-3/
END:VEVENT
END:VCALENDAR
