BEGIN:VCALENDAR
PRODID:-//github.com/ical-org/ical.net//NONSGML ical.net 5.2.1//EN
VERSION:2.0
BEGIN:VTIMEZONE
TZID:Europe/Amsterdam
X-LIC-LOCATION:Europe/Amsterdam
END:VTIMEZONE
BEGIN:VEVENT
DESCRIPTION:Samen buiten lezen:  is er een beter begin van je zomer zondag?
DTEND;TZID=Local:20260517T120000
DTSTAMP:20260422T154643Z
DTSTART;TZID=Local:20260517T100000
LOCATION:Keilecaf?
SEQUENCE:0
SUMMARY:Silent Book Club Summer Morning Special
UID:d3627b8a-8945-48aa-95be-b43f0f3a1872
URL:https://www.uitagendarotterdam.nl/agenda/silent-book-club-summer-mornin
 g-special-2/
END:VEVENT
END:VCALENDAR
