BEGIN:VCALENDAR
PRODID:-//github.com/ical-org/ical.net//NONSGML ical.net 5.2.1//EN
VERSION:2.0
BEGIN:VTIMEZONE
TZID:Europe/Amsterdam
X-LIC-LOCATION:Europe/Amsterdam
END:VTIMEZONE
BEGIN:VEVENT
DESCRIPTION:Samen buiten lezen:  is er een beter begin van je zomer zondag?
DTEND;TZID=Local:20260823T120000
DTSTAMP:20260422T160352Z
DTSTART;TZID=Local:20260823T100000
LOCATION:Keilecaf?
SEQUENCE:0
SUMMARY:Silent Book Club Summer Morning Special
UID:0c45c816-f3b4-4b0a-a64f-5ed18b7d2af5
URL:https://www.uitagendarotterdam.nl/agenda/silent-book-club-summer-mornin
 g-special-1/
END:VEVENT
END:VCALENDAR
