BEGIN:VCALENDAR
PRODID:-//github.com/ical-org/ical.net//NONSGML ical.net 5.2.1//EN
VERSION:2.0
BEGIN:VTIMEZONE
TZID:Europe/Amsterdam
X-LIC-LOCATION:Europe/Amsterdam
END:VTIMEZONE
BEGIN:VEVENT
DESCRIPTION:Het Laureatenconcert van Piano Festival Rotterdam is een feeste
 lijke avond waarin jong toptalent en nieuwe muziek samenkomen in premi?re
 s en meesterwerken\, uitgevoerd in de Doelen.
DTEND;TZID=Local:20261101T101500
DTSTAMP:20260422T160536Z
DTSTART;TZID=Local:20261101T201500
LOCATION:De Doelen
SEQUENCE:0
SUMMARY:Laureaten Concert PianoFestival Rotterdam
UID:98ed52db-8e54-4dcb-96a7-dadf3441db93
URL:https://www.uitagendarotterdam.nl/agenda/laureaten-concert-pianofestiva
 l-rotterdam/
END:VEVENT
END:VCALENDAR
