BEGIN:VCALENDAR
PRODID:-//github.com/ical-org/ical.net//NONSGML ical.net 5.2.1//EN
VERSION:2.0
BEGIN:VTIMEZONE
TZID:Europe/Amsterdam
X-LIC-LOCATION:Europe/Amsterdam
END:VTIMEZONE
BEGIN:VEVENT
DESCRIPTION:Samen buiten lezen:  is er een beter begin van je zomer zondag?
DTEND;TZID=Local:20260712T120000
DTSTAMP:20260422T160213Z
DTSTART;TZID=Local:20260712T100000
LOCATION:Keilecaf?
SEQUENCE:0
SUMMARY:Silent Book Club Summer Morning Special
UID:7a654be0-5667-4ea3-8df5-f3a793951eae
URL:https://www.uitagendarotterdam.nl/agenda/silent-book-club-summer-mornin
 g-special/
END:VEVENT
END:VCALENDAR
