BEGIN:VCALENDAR
PRODID:-//github.com/ical-org/ical.net//NONSGML ical.net 5.2.1//EN
VERSION:2.0
BEGIN:VTIMEZONE
TZID:Europe/Amsterdam
X-LIC-LOCATION:Europe/Amsterdam
END:VTIMEZONE
BEGIN:VEVENT
DESCRIPTION: Een reis naar je essentie door middel van muziek en dans 
DTEND;TZID=Local:20260530T170000
DTSTAMP:20260422T154551Z
DTSTART;TZID=Local:20260530T150000
LOCATION:NIO House Rotterdam
SEQUENCE:0
SUMMARY:WORKSHOP  VIER JEZELF!
UID:1cd19d93-57f1-4730-a2d3-9b991c88b99b
URL:https://www.uitagendarotterdam.nl/agenda/workshop-vier-jezelf/
END:VEVENT
END:VCALENDAR
