BEGIN:VCALENDAR
PRODID:-//github.com/ical-org/ical.net//NONSGML ical.net 5.2.1//EN
VERSION:2.0
BEGIN:VTIMEZONE
TZID:Europe/Amsterdam
X-LIC-LOCATION:Europe/Amsterdam
END:VTIMEZONE
BEGIN:VEVENT
DESCRIPTION:Tijdens deze creatieve workshop op een unieke locatie leer je d
 e leuke techniek van Gelliprinting
DTEND;TZID=Local:20260718T130000
DTSTAMP:20260422T154508Z
DTSTART;TZID=Local:20260718T110000
LOCATION:De HER
SEQUENCE:0
SUMMARY:Workshop Gelliprint
UID:d8e34992-6dfc-42ad-82e1-ca62d83f04b3
URL:https://www.uitagendarotterdam.nl/agenda/workshop-gelliprint/
END:VEVENT
END:VCALENDAR
