BEGIN:VCALENDAR
PRODID:-//github.com/ical-org/ical.net//NONSGML ical.net 5.2.1//EN
VERSION:2.0
BEGIN:VTIMEZONE
TZID:Europe/Amsterdam
X-LIC-LOCATION:Europe/Amsterdam
END:VTIMEZONE
BEGIN:VEVENT
DESCRIPTION:De joodse Rachel sluit zich aan bij het verzet en papt aan met 
 een Duitse SD-officier.
DTEND;TZID=Local:20260527T191400
DTSTAMP:20260421T163302Z
DTSTART;TZID=Local:20260527T163000
LOCATION:Path? Schouwburgplein
SEQUENCE:0
SUMMARY:Zwartboek
UID:e33a3c6f-3c32-4f1b-9998-9f53e49edf4d
URL:https://www.uitagendarotterdam.nl/agenda/zwartboek/
END:VEVENT
END:VCALENDAR
