BEGIN:VCALENDAR
PRODID:-//github.com/ical-org/ical.net//NONSGML ical.net 5.2.1//EN
VERSION:2.0
BEGIN:VTIMEZONE
TZID:Europe/Amsterdam
X-LIC-LOCATION:Europe/Amsterdam
END:VTIMEZONE
BEGIN:VEVENT
DESCRIPTION:De joodse Rachel sluit zich aan bij het verzet en papt aan met 
 een Duitse SD-officier.
DTEND;TZID=Local:20260524T162400
DTSTAMP:20260421T163433Z
DTSTART;TZID=Local:20260524T134000
LOCATION:Path? Schouwburgplein
SEQUENCE:0
SUMMARY:Zwartboek
UID:488b999b-1718-4a0c-931e-6d0e18478272
URL:https://www.uitagendarotterdam.nl/agenda/zwartboek/
END:VEVENT
END:VCALENDAR
