BEGIN:VCALENDAR
PRODID:-//github.com/ical-org/ical.net//NONSGML ical.net 5.2.1//EN
VERSION:2.0
BEGIN:VTIMEZONE
TZID:Europe/Amsterdam
X-LIC-LOCATION:Europe/Amsterdam
END:VTIMEZONE
BEGIN:VEVENT
DESCRIPTION:In deze grappige familiefilm speelt Hugh Jackman een herder gen
 aamd George\, die zijn geliefde schapen iedere avond voorleest uit detecti
 veboeken.
DTEND;TZID=Local:20260429T150900
DTSTAMP:20260421T164342Z
DTSTART;TZID=Local:20260429T130000
LOCATION:Path? Schouwburgplein
SEQUENCE:0
SUMMARY:De Schapenspeurders
UID:5ec69b74-ea88-4b15-b74f-399c187fc8a4
URL:https://www.uitagendarotterdam.nl/agenda/de-schapenspeurders/
END:VEVENT
END:VCALENDAR
