BEGIN:VCALENDAR
PRODID:-//github.com/ical-org/ical.net//NONSGML ical.net 5.2.1//EN
VERSION:2.0
BEGIN:VTIMEZONE
TZID:Europe/Amsterdam
X-LIC-LOCATION:Europe/Amsterdam
END:VTIMEZONE
BEGIN:VEVENT
DESCRIPTION:In deze grappige familiefilm speelt Hugh Jackman een herder gen
 aamd George\, die zijn geliefde schapen iedere avond voorleest uit detecti
 veboeken.
DTEND;TZID=Local:20260428T134900
DTSTAMP:20260421T163854Z
DTSTART;TZID=Local:20260428T114000
LOCATION:Path? Schouwburgplein
SEQUENCE:0
SUMMARY:De Schapenspeurders
UID:d5b12acb-a1a9-4405-aa6c-40873c751c14
URL:https://www.uitagendarotterdam.nl/agenda/de-schapenspeurders/
END:VEVENT
END:VCALENDAR
