BEGIN:VCALENDAR
PRODID:-//github.com/ical-org/ical.net//NONSGML ical.net 5.2.1//EN
VERSION:2.0
BEGIN:VTIMEZONE
TZID:Europe/Amsterdam
X-LIC-LOCATION:Europe/Amsterdam
END:VTIMEZONE
BEGIN:VEVENT
DESCRIPTION:In deze grappige familiefilm speelt Hugh Jackman een herder gen
 aamd George\, die zijn geliefde schapen iedere avond voorleest uit detecti
 veboeken.
DTEND;TZID=Local:20260427T131900
DTSTAMP:20260421T164321Z
DTSTART;TZID=Local:20260427T111000
LOCATION:Path? Schouwburgplein
SEQUENCE:0
SUMMARY:De Schapenspeurders
UID:36b72c15-7c22-4b73-b2cb-fd5aeff8c95e
URL:https://www.uitagendarotterdam.nl/agenda/de-schapenspeurders/
END:VEVENT
END:VCALENDAR
