BEGIN:VCALENDAR
PRODID:-//github.com/ical-org/ical.net//NONSGML ical.net 5.2.1//EN
VERSION:2.0
BEGIN:VTIMEZONE
TZID:Europe/Amsterdam
X-LIC-LOCATION:Europe/Amsterdam
END:VTIMEZONE
BEGIN:VEVENT
DESCRIPTION:Een Duits-Turkse stagiaire komt tussen twee vuren te staan nada
 t een koran wordt verbrand op een filmset.
DTSTAMP:20260421T163229Z
DTSTART;TZID=Local:20260529T190000
LOCATION:KINO
SEQUENCE:0
SUMMARY:Hysteria
UID:b9a2e56f-df6c-475a-b374-73950fac19fa
URL:https://www.uitagendarotterdam.nl/agenda/hysteria/
END:VEVENT
END:VCALENDAR
