BEGIN:VCALENDAR
PRODID:-//github.com/ical-org/ical.net//NONSGML ical.net 5.2.1//EN
VERSION:2.0
BEGIN:VTIMEZONE
TZID:Europe/Amsterdam
X-LIC-LOCATION:Europe/Amsterdam
END:VTIMEZONE
BEGIN:VEVENT
DESCRIPTION:Met Tom Hiddleston en Tilda Swinton als ?bercoole bloedzuigers
 .
DTEND;TZID=Local:20260428T121800
DTSTAMP:20260421T163449Z
DTSTART;TZID=Local:20260428T100000
LOCATION:KINO
SEQUENCE:0
SUMMARY:Only Lovers Left Alive
UID:37be2260-7c03-476b-8d2e-2d96f7a71bfd
URL:https://www.uitagendarotterdam.nl/agenda/only-lovers-left-alive/
END:VEVENT
END:VCALENDAR
