BEGIN:VCALENDAR
PRODID:-//github.com/ical-org/ical.net//NONSGML ical.net 5.2.1//EN
VERSION:2.0
BEGIN:VTIMEZONE
TZID:Europe/Amsterdam
X-LIC-LOCATION:Europe/Amsterdam
END:VTIMEZONE
BEGIN:VEVENT
DESCRIPTION:Met Tom Hiddleston en Tilda Swinton als ?bercoole bloedzuigers
 .
DTSTAMP:20260421T163348Z
DTSTART;TZID=Local:20260427T184000
LOCATION:KINO
SEQUENCE:0
SUMMARY:Only Lovers Left Alive
UID:806013c7-21bb-4079-8e01-2b3aeb0ec172
URL:https://www.uitagendarotterdam.nl/agenda/only-lovers-left-alive/
END:VEVENT
END:VCALENDAR
