BEGIN:VCALENDAR
PRODID:-//github.com/ical-org/ical.net//NONSGML ical.net 5.2.1//EN
VERSION:2.0
BEGIN:VTIMEZONE
TZID:Europe/Amsterdam
X-LIC-LOCATION:Europe/Amsterdam
END:VTIMEZONE
BEGIN:VEVENT
DESCRIPTION:Een jongen gebruikt een bovennatuurlijk speeltje zodat z'n jeug
 dvriendin verliefd op 'm wordt\, maar ontdekt dat die liefde een dodelijke
  prijs heeft.
DTEND;TZID=Local:20260508T231900
DTSTAMP:20260421T163118Z
DTSTART;TZID=Local:20260508T211500
LOCATION:KINO
SEQUENCE:0
SUMMARY:Obsession
UID:00df88eb-9644-4d9c-8d0f-d69eb85c88fd
URL:https://www.uitagendarotterdam.nl/agenda/obsession/
END:VEVENT
END:VCALENDAR
