BEGIN:VCALENDAR
PRODID:-//github.com/ical-org/ical.net//NONSGML ical.net 5.2.1//EN
VERSION:2.0
BEGIN:VTIMEZONE
TZID:Europe/Amsterdam
X-LIC-LOCATION:Europe/Amsterdam
END:VTIMEZONE
BEGIN:VEVENT
DESCRIPTION:Een muzikale fabel ? zonder dialoog ? over een jonge astron
 aute en haar beschermrobot.
DTEND;TZID=Local:20260429T160100
DTSTAMP:20260421T163229Z
DTSTART;TZID=Local:20260429T142000
LOCATION:KINO
SEQUENCE:0
SUMMARY:Space Cadet
UID:1d09b3f9-9543-42dd-b326-9069d83c472a
URL:https://www.uitagendarotterdam.nl/agenda/space-cadet/
END:VEVENT
END:VCALENDAR
