BEGIN:VCALENDAR
PRODID:-//github.com/ical-org/ical.net//NONSGML ical.net 5.2.1//EN
VERSION:2.0
BEGIN:VTIMEZONE
TZID:Europe/Amsterdam
X-LIC-LOCATION:Europe/Amsterdam
END:VTIMEZONE
BEGIN:VEVENT
DESCRIPTION:Een muzikale fabel ? zonder dialoog ? over een jonge astron
 aute en haar beschermrobot.
DTEND;TZID=Local:20260426T114100
DTSTAMP:20260421T163118Z
DTSTART;TZID=Local:20260426T100000
LOCATION:KINO
SEQUENCE:0
SUMMARY:Space Cadet
UID:e150829d-c8a3-4600-a33a-763f55b36c0d
URL:https://www.uitagendarotterdam.nl/agenda/space-cadet/
END:VEVENT
END:VCALENDAR
