BEGIN:VCALENDAR
PRODID:-//github.com/ical-org/ical.net//NONSGML ical.net 5.2.1//EN
VERSION:2.0
BEGIN:VTIMEZONE
TZID:Europe/Amsterdam
X-LIC-LOCATION:Europe/Amsterdam
END:VTIMEZONE
BEGIN:VEVENT
DESCRIPTION:Een muzikale fabel ? zonder dialoog ? over een jonge astron
 aute en haar beschermrobot.
DTEND;TZID=Local:20260425T160100
DTSTAMP:20260421T163258Z
DTSTART;TZID=Local:20260425T142000
LOCATION:KINO
SEQUENCE:0
SUMMARY:Space Cadet
UID:7a480131-b332-43be-8cbf-57c1a2b9225d
URL:https://www.uitagendarotterdam.nl/agenda/space-cadet/
END:VEVENT
END:VCALENDAR
