BEGIN:VCALENDAR
PRODID:-//github.com/ical-org/ical.net//NONSGML ical.net 5.2.1//EN
VERSION:2.0
BEGIN:VTIMEZONE
TZID:Europe/Amsterdam
X-LIC-LOCATION:Europe/Amsterdam
END:VTIMEZONE
BEGIN:VEVENT
DESCRIPTION:Een muzikale fabel ? zonder dialoog ? over een jonge astron
 aute en haar beschermrobot.
DTEND;TZID=Local:20260424T155600
DTSTAMP:20260421T163258Z
DTSTART;TZID=Local:20260424T141500
LOCATION:KINO
SEQUENCE:0
SUMMARY:Space Cadet
UID:258739ef-88a4-4b38-adee-00fb8977aa3f
URL:https://www.uitagendarotterdam.nl/agenda/space-cadet/
END:VEVENT
END:VCALENDAR
