BEGIN:VCALENDAR
PRODID:-//github.com/ical-org/ical.net//NONSGML ical.net 5.2.1//EN
VERSION:2.0
BEGIN:VTIMEZONE
TZID:Europe/Amsterdam
X-LIC-LOCATION:Europe/Amsterdam
END:VTIMEZONE
BEGIN:VEVENT
DESCRIPTION:Een muzikale fabel ? zonder dialoog ? over een jonge astron
 aute en haar beschermrobot.
DTEND;TZID=Local:20260423T114100
DTSTAMP:20260421T163517Z
DTSTART;TZID=Local:20260423T100000
LOCATION:KINO
SEQUENCE:0
SUMMARY:Space Cadet
UID:f96460d9-16a5-48e5-8df5-8a39b8fecdf3
URL:https://www.uitagendarotterdam.nl/agenda/space-cadet/
END:VEVENT
END:VCALENDAR
