BEGIN:VCALENDAR
PRODID:-//github.com/ical-org/ical.net//NONSGML ical.net 5.2.1//EN
VERSION:2.0
BEGIN:VTIMEZONE
TZID:Europe/Amsterdam
X-LIC-LOCATION:Europe/Amsterdam
END:VTIMEZONE
BEGIN:VEVENT
DESCRIPTION:Merrily We Roll Along speelt zich af gedurende twee decennia en
  volgt de complexe\, vaak hartverscheurende teloorgang van een ooit onverw
 oestbare vriendschap tussen componist Franklin Shepard en zijn twee beste 
 vrienden ? toneel- en tekstschrijver Charley en schrijfster Mary.
DTEND;TZID=Local:20260517T151500
DTSTAMP:20260421T163326Z
DTSTART;TZID=Local:20260517T123000
LOCATION:Path? Schouwburgplein
SEQUENCE:0
SUMMARY:Merrily We Roll Along
UID:ca4cd60a-ffe7-4d63-b4c6-fdfe5860aba1
URL:https://www.uitagendarotterdam.nl/agenda/merrily-we-roll-along/
END:VEVENT
END:VCALENDAR
