BEGIN:VCALENDAR
PRODID:-//github.com/ical-org/ical.net//NONSGML ical.net 5.2.1//EN
VERSION:2.0
BEGIN:VTIMEZONE
TZID:Europe/Amsterdam
X-LIC-LOCATION:Europe/Amsterdam
END:VTIMEZONE
BEGIN:VEVENT
DESCRIPTION:Queer Oriental Rotterdam is een cultureel queer ontmoetings- en
  entertainmentevenement\, georganiseerd door Stichting Sirkaf. Het eveneme
 nt biedt een platform voor culturele uitwisseling met muziek\, dans en pod
 iumoptredens ge?nspireerd door motieven uit Turkije\, Mesopotami? en het
  Zuidwest Azi? ? in koloniale terminologie het Midden-Oosten.\n\n
DTEND;TZID=Local:20260523T040000
DTSTAMP:20260421T144304Z
DTSTART;TZID=Local:20260523T220000
LOCATION:Worm
SEQUENCE:0
SUMMARY:Queer Oriental Rotterdam Vol.5
UID:2c75e2b3-bee8-46de-933d-f2e93bcbb962
URL:https://www.uitagendarotterdam.nl/agenda/queer-oriental-rotterdam-vol5/
END:VEVENT
END:VCALENDAR
